BEGIN:VCALENDAR
VERSION:2.0
PRODID:icalendar-ruby
CALSCALE:GREGORIAN
METHOD:PUBLISH
BEGIN:VEVENT
DTSTAMP:20260424T163254Z
UID:5-404026@holycrossarlington.org
DTSTART:20261018T153000Z
DTEND:20261018T163000Z
CLASS:PUBLIC
CREATED:20260424T095302
DESCRIPTION:Sunday Worship
LAST-MODIFIED:20260424T095302
LOCATION:
SUMMARY:Sunday Worship
URL;VALUE=URI:https://holycrossarlington.org/events/sunday-worship/2026-10-
 18
END:VEVENT
END:VCALENDAR
