BEGIN:VCALENDAR
VERSION:2.0
PRODID:icalendar-ruby
CALSCALE:GREGORIAN
METHOD:PUBLISH
BEGIN:VEVENT
DTSTAMP:20260424T175331Z
UID:5-404288@holycrossarlington.org
DTSTART:20261025T153000Z
DTEND:20261025T163000Z
CLASS:PUBLIC
CREATED:20260424T124015
DESCRIPTION:Sunday Worship
LAST-MODIFIED:20260424T124015
LOCATION:
SUMMARY:Sunday Worship
URL;VALUE=URI:https://holycrossarlington.org/events/sunday-worship/2026-10-
 25
END:VEVENT
END:VCALENDAR
